BEGIN:VCALENDAR
VERSION:2.0
PRODID:-//Western ITM - ECPv6.15.20//NONSGML v1.0//EN
CALSCALE:GREGORIAN
METHOD:PUBLISH
X-WR-CALNAME:Western ITM
X-ORIGINAL-URL:https://westernitm.co.nz
X-WR-CALDESC:Events for Western ITM
REFRESH-INTERVAL;VALUE=DURATION:PT1H
X-Robots-Tag:noindex
X-PUBLISHED-TTL:PT1H
BEGIN:VTIMEZONE
TZID:Pacific/Auckland
BEGIN:STANDARD
TZOFFSETFROM:+1300
TZOFFSETTO:+1200
TZNAME:NZST
DTSTART:20240406T140000
END:STANDARD
BEGIN:DAYLIGHT
TZOFFSETFROM:+1200
TZOFFSETTO:+1300
TZNAME:NZDT
DTSTART:20240928T140000
END:DAYLIGHT
BEGIN:STANDARD
TZOFFSETFROM:+1300
TZOFFSETTO:+1200
TZNAME:NZST
DTSTART:20250405T140000
END:STANDARD
BEGIN:DAYLIGHT
TZOFFSETFROM:+1200
TZOFFSETTO:+1300
TZNAME:NZDT
DTSTART:20250927T140000
END:DAYLIGHT
BEGIN:STANDARD
TZOFFSETFROM:+1300
TZOFFSETTO:+1200
TZNAME:NZST
DTSTART:20260404T140000
END:STANDARD
BEGIN:DAYLIGHT
TZOFFSETFROM:+1200
TZOFFSETTO:+1300
TZNAME:NZDT
DTSTART:20260926T140000
END:DAYLIGHT
END:VTIMEZONE
BEGIN:VEVENT
DTSTART;VALUE=DATE:20250412
DTEND;VALUE=DATE:20250413
DTSTAMP:20260419T100255
CREATED:20250115T213559Z
LAST-MODIFIED:20250115T213559Z
UID:7876-1744416000-1744502399@westernitm.co.nz
SUMMARY:2025 ITM Taupo Super 440
DESCRIPTION:The Supercars are back in Taupo for the second ITM Taupo Super 440 April 11-13th! \nTickets and packages available here: https://www.supercars.com/events/2025-taupo
URL:https://westernitm.co.nz/event/2025-itm-taupo-super-440-2/
ATTACH;FMTTYPE=image/jpeg:https://westernitm.co.nz/wp-content/uploads/Website-Latest-News-image-2023.jpg
END:VEVENT
END:VCALENDAR