BEGIN:VCALENDAR
VERSION:2.0
PRODID:-//Western ITM - ECPv6.15.20//NONSGML v1.0//EN
CALSCALE:GREGORIAN
METHOD:PUBLISH
X-WR-CALNAME:Western ITM
X-ORIGINAL-URL:https://westernitm.co.nz
X-WR-CALDESC:Events for Western ITM
REFRESH-INTERVAL;VALUE=DURATION:PT1H
X-Robots-Tag:noindex
X-PUBLISHED-TTL:PT1H
BEGIN:VTIMEZONE
TZID:Pacific/Auckland
BEGIN:STANDARD
TZOFFSETFROM:+1300
TZOFFSETTO:+1200
TZNAME:NZST
DTSTART:20240406T140000
END:STANDARD
BEGIN:DAYLIGHT
TZOFFSETFROM:+1200
TZOFFSETTO:+1300
TZNAME:NZDT
DTSTART:20240928T140000
END:DAYLIGHT
BEGIN:STANDARD
TZOFFSETFROM:+1300
TZOFFSETTO:+1200
TZNAME:NZST
DTSTART:20250405T140000
END:STANDARD
BEGIN:DAYLIGHT
TZOFFSETFROM:+1200
TZOFFSETTO:+1300
TZNAME:NZDT
DTSTART:20250927T140000
END:DAYLIGHT
BEGIN:STANDARD
TZOFFSETFROM:+1300
TZOFFSETTO:+1200
TZNAME:NZST
DTSTART:20260404T140000
END:STANDARD
BEGIN:DAYLIGHT
TZOFFSETFROM:+1200
TZOFFSETTO:+1300
TZNAME:NZDT
DTSTART:20260926T140000
END:DAYLIGHT
END:VTIMEZONE
BEGIN:VEVENT
DTSTART;VALUE=DATE:20250611
DTEND;VALUE=DATE:20250615
DTSTAMP:20260418T001833
CREATED:20250210T212859Z
LAST-MODIFIED:20250210T212859Z
UID:7901-1749600000-1749945599@westernitm.co.nz
SUMMARY:Fieldays
DESCRIPTION:Fieldays are all go June 11-14 2025\, Mystery Creek\, Hamilton \nMake sure you visit the ITM Site and check out our Pole Shed options!
URL:https://westernitm.co.nz/event/fieldays-mystery-creek/
LOCATION:Fieldays\, Mystery Creek\, Hamilton\, New Zealand
ATTACH;FMTTYPE=image/jpeg:https://westernitm.co.nz/wp-content/uploads/Website-Latest-News-image-2023.jpg
END:VEVENT
END:VCALENDAR