BEGIN:VCALENDAR
VERSION:2.0
PRODID:-//Western ITM - ECPv6.15.20//NONSGML v1.0//EN
CALSCALE:GREGORIAN
METHOD:PUBLISH
X-ORIGINAL-URL:https://westernitm.co.nz
X-WR-CALDESC:Events for Western ITM
REFRESH-INTERVAL;VALUE=DURATION:PT1H
X-Robots-Tag:noindex
X-PUBLISHED-TTL:PT1H
BEGIN:VTIMEZONE
TZID:Pacific/Auckland
BEGIN:STANDARD
TZOFFSETFROM:+1300
TZOFFSETTO:+1200
TZNAME:NZST
DTSTART:20230401T140000
END:STANDARD
BEGIN:DAYLIGHT
TZOFFSETFROM:+1200
TZOFFSETTO:+1300
TZNAME:NZDT
DTSTART:20230923T140000
END:DAYLIGHT
BEGIN:STANDARD
TZOFFSETFROM:+1300
TZOFFSETTO:+1200
TZNAME:NZST
DTSTART:20240406T140000
END:STANDARD
BEGIN:DAYLIGHT
TZOFFSETFROM:+1200
TZOFFSETTO:+1300
TZNAME:NZDT
DTSTART:20240928T140000
END:DAYLIGHT
BEGIN:STANDARD
TZOFFSETFROM:+1300
TZOFFSETTO:+1200
TZNAME:NZST
DTSTART:20250405T140000
END:STANDARD
BEGIN:DAYLIGHT
TZOFFSETFROM:+1200
TZOFFSETTO:+1300
TZNAME:NZDT
DTSTART:20250927T140000
END:DAYLIGHT
END:VTIMEZONE
BEGIN:VEVENT
DTSTART;TZID=Pacific/Auckland:20241129T150000
DTEND;TZID=Pacific/Auckland:20241129T173000
DTSTAMP:20260417T032111
CREATED:20241010T025550Z
LAST-MODIFIED:20241104T021025Z
UID:7669-1732892400-1732901400@westernitm.co.nz
SUMMARY:Western ITM Black Friday MEGA Sale +
DESCRIPTION:Save the Date! Western ITM Kumeu is hosting an epic Black Friday Mega Sale + Trade Talks on Friday\, 29th November\, from 3:00 PM to 5:30 PM. Not only will there be jaw dropping deals\, but we will also have everything from the Toolbox Top-Up Sale available\, Trade Talks\, a BBQ feast\, and beverages. Plus every $500 spent in-store on the day you get an entry into the draw to Win a Traeger Pellet Pro 575 Smoker valued at $1599! \nThanks to our suppliers: Strainrite\, Staffy\, Makita\, Easy Access\, Ox Tools\, Green Gorilla\, DriSpace\, Mates in Construction\, Atlas\, DeWalt\, Soudal\, Spax\, Toolware\, Mitek\, Tasman
URL:https://westernitm.co.nz/event/western-itm-black-friday-mega-sale/
LOCATION:Western ITM Kumeu\, 154 Main Road\, Kumeu\, Auckland\, Kumeu\, 0810\, New Zealand
ATTACH;FMTTYPE=image/jpeg:https://westernitm.co.nz/wp-content/uploads/Website-Latest-News-image-2023.jpg
END:VEVENT
END:VCALENDAR