BEGIN:VCALENDAR
VERSION:2.0
PRODID:-//Western ITM - ECPv6.15.20//NONSGML v1.0//EN
CALSCALE:GREGORIAN
METHOD:PUBLISH
X-WR-CALNAME:Western ITM
X-ORIGINAL-URL:https://westernitm.co.nz
X-WR-CALDESC:Events for Western ITM
REFRESH-INTERVAL;VALUE=DURATION:PT1H
X-Robots-Tag:noindex
X-PUBLISHED-TTL:PT1H
BEGIN:VTIMEZONE
TZID:Pacific/Auckland
BEGIN:STANDARD
TZOFFSETFROM:+1300
TZOFFSETTO:+1200
TZNAME:NZST
DTSTART:20240406T140000
END:STANDARD
BEGIN:DAYLIGHT
TZOFFSETFROM:+1200
TZOFFSETTO:+1300
TZNAME:NZDT
DTSTART:20240928T140000
END:DAYLIGHT
BEGIN:STANDARD
TZOFFSETFROM:+1300
TZOFFSETTO:+1200
TZNAME:NZST
DTSTART:20250405T140000
END:STANDARD
BEGIN:DAYLIGHT
TZOFFSETFROM:+1200
TZOFFSETTO:+1300
TZNAME:NZDT
DTSTART:20250927T140000
END:DAYLIGHT
BEGIN:STANDARD
TZOFFSETFROM:+1300
TZOFFSETTO:+1200
TZNAME:NZST
DTSTART:20260404T140000
END:STANDARD
BEGIN:DAYLIGHT
TZOFFSETFROM:+1200
TZOFFSETTO:+1300
TZNAME:NZDT
DTSTART:20260926T140000
END:DAYLIGHT
END:VTIMEZONE
BEGIN:VEVENT
DTSTART;TZID=Pacific/Auckland:20250406T080000
DTEND;TZID=Pacific/Auckland:20250406T170000
DTSTAMP:20260420T123446
CREATED:20250115T212619Z
LAST-MODIFIED:20250115T212619Z
UID:7866-1743926400-1743958800@westernitm.co.nz
SUMMARY:Day Light Savings Ends
DESCRIPTION:Don’t forget to put your clocks back 1 hour tonight
URL:https://westernitm.co.nz/event/day-light-savings-ends-2/
ATTACH;FMTTYPE=image/jpeg:https://westernitm.co.nz/wp-content/uploads/Website-Latest-News-image-2023.jpg
END:VEVENT
BEGIN:VEVENT
DTSTART;VALUE=DATE:20250411
DTEND;VALUE=DATE:20250412
DTSTAMP:20260420T123446
CREATED:20250115T213529Z
LAST-MODIFIED:20250115T213529Z
UID:7874-1744329600-1744415999@westernitm.co.nz
SUMMARY:2025 ITM Taupo Super 440
DESCRIPTION:The Supercars are back in Taupo for the second ITM Taupo Super 440 April 11-13th! \nTickets and packages available here: https://www.supercars.com/events/2025-taupo
URL:https://westernitm.co.nz/event/2025-itm-taupo-super-440/
ATTACH;FMTTYPE=image/jpeg:https://westernitm.co.nz/wp-content/uploads/Website-Latest-News-image-2023.jpg
END:VEVENT
BEGIN:VEVENT
DTSTART;VALUE=DATE:20250412
DTEND;VALUE=DATE:20250413
DTSTAMP:20260420T123446
CREATED:20250115T213559Z
LAST-MODIFIED:20250115T213559Z
UID:7876-1744416000-1744502399@westernitm.co.nz
SUMMARY:2025 ITM Taupo Super 440
DESCRIPTION:The Supercars are back in Taupo for the second ITM Taupo Super 440 April 11-13th! \nTickets and packages available here: https://www.supercars.com/events/2025-taupo
URL:https://westernitm.co.nz/event/2025-itm-taupo-super-440-2/
ATTACH;FMTTYPE=image/jpeg:https://westernitm.co.nz/wp-content/uploads/Website-Latest-News-image-2023.jpg
END:VEVENT
BEGIN:VEVENT
DTSTART;VALUE=DATE:20250413
DTEND;VALUE=DATE:20250414
DTSTAMP:20260420T123446
CREATED:20250115T213633Z
LAST-MODIFIED:20250115T213633Z
UID:7878-1744502400-1744588799@westernitm.co.nz
SUMMARY:2025 ITM Super 440
DESCRIPTION:The Supercars are back in Taupo for the second ITM Taupo Super 440 April 11-13th! \nTickets and packages available here: https://www.supercars.com/events/2025-taupo
URL:https://westernitm.co.nz/event/2025-itm-super-440/
ATTACH;FMTTYPE=image/jpeg:https://westernitm.co.nz/wp-content/uploads/Website-Latest-News-image-2023.jpg
END:VEVENT
BEGIN:VEVENT
DTSTART;VALUE=DATE:20250418
DTEND;VALUE=DATE:20250419
DTSTAMP:20260420T123446
CREATED:20241113T223328Z
LAST-MODIFIED:20241113T223328Z
UID:7760-1744934400-1745020799@westernitm.co.nz
SUMMARY:Good Friday
DESCRIPTION:All Western ITM Stores are closed
URL:https://westernitm.co.nz/event/good-friday-5/
ATTACH;FMTTYPE=image/jpeg:https://westernitm.co.nz/wp-content/uploads/Website-Latest-News-image-2023.jpg
END:VEVENT
BEGIN:VEVENT
DTSTART;VALUE=DATE:20250419
DTEND;VALUE=DATE:20250420
DTSTAMP:20260420T123446
CREATED:20250219T232635Z
LAST-MODIFIED:20250219T232635Z
UID:7924-1745020800-1745107199@westernitm.co.nz
SUMMARY:Closed for Easter
DESCRIPTION:All Western ITM stores will be closed today\, Saturday\, April 19th\, for Easter. \nWe will resume normal trading hours on Tuesday\, April 22nd.
URL:https://westernitm.co.nz/event/closed-for-easter/
ATTACH;FMTTYPE=image/jpeg:https://westernitm.co.nz/wp-content/uploads/Website-Latest-News-image-2023.jpg
END:VEVENT
BEGIN:VEVENT
DTSTART;VALUE=DATE:20250421
DTEND;VALUE=DATE:20250422
DTSTAMP:20260420T123446
CREATED:20241113T222937Z
LAST-MODIFIED:20241113T223353Z
UID:7748-1745193600-1745279999@westernitm.co.nz
SUMMARY:Easter Monday
DESCRIPTION:All Western ITM Stores are closed
URL:https://westernitm.co.nz/event/good-friday-4/
ATTACH;FMTTYPE=image/jpeg:https://westernitm.co.nz/wp-content/uploads/Website-Latest-News-image-2023.jpg
END:VEVENT
BEGIN:VEVENT
DTSTART;VALUE=DATE:20250425
DTEND;VALUE=DATE:20250426
DTSTAMP:20260420T123446
CREATED:20241113T223036Z
LAST-MODIFIED:20241113T223036Z
UID:7751-1745539200-1745625599@westernitm.co.nz
SUMMARY:Anzac Day
DESCRIPTION:All Western ITM Stores are closed
URL:https://westernitm.co.nz/event/anzac-day-4/
ATTACH;FMTTYPE=image/jpeg:https://westernitm.co.nz/wp-content/uploads/Website-Latest-News-image-2023.jpg
END:VEVENT
END:VCALENDAR